BEGIN:VCALENDAR
VERSION:2.0
PRODID:-//wp-events-plugin.com//7.2.3.1//EN
TZID:Europe/Berlin
X-WR-TIMEZONE:Europe/Berlin
BEGIN:VEVENT
UID:110@bergische-rohstoffschmiede.de
DTSTART;TZID=Europe/Berlin:20250930T100000
DTEND;TZID=Europe/Berlin:20250930T160000
DTSTAMP:20250909T085049Z
URL:https://bergische-rohstoffschmiede.de/events/runder-tisch-zirkulaere-w
 ertschoepfung-nrw-thementisch-zirkulaeres-bauen-auf-metabolon/
SUMMARY:Runder Tisch Zirkuläre Wertschöpfung NRW – Thementisch "Zirkul
 äres Bauen" auf :metabolon
DESCRIPTION:Angesichts des Klimawandels und knapper werdender Ressourcen ge
 winnt die Kreislaufwirtschaft im Bausektor weiter an Bedeutung.  Hochschu
 len in NRW leisten dabei einen wichtigen Beitrag\, innovative\, zukunftsf
 ähige Lösungen zu entwickeln. Beim 3. Thementisch Zirkuläres Bauen des 
 Runden Tisch Zirkuläre Wertschöpfung NRW richtet sich daher der Blick au
 f aktuelle praxisnahe Forschungsprojekte.\n\nZiel dieses Thementisches ist
  es\, Fragestellungen und Lösungsansätze rund um die Baumaterialentwickl
 ung\, Bewertungssysteme/-methoden und Reallabore/ Wissenstransfer zu erör
 tern sowie Austausch und Vernetzung zwischen den Teilnehmenden zu ermögli
 chen. Potenzielle Synergien zwischen Projekten können identifiziert\, Ans
 ätze weiterentwickelt und neue Vorhaben angestoßen werden.
ATTACH;FMTTYPE=image/jpeg:https://bergische-rohstoffschmiede.de/wp-content
 /uploads/2024/09/Runder-Tisch-Logo-scaled-1.jpg
CATEGORIES:Runder Tisch Zirkuläre Wertschöpfung NRW
LOCATION::metabolon\, Am Berkebach\, Lindlar\, Nordrhein-Westfalen\, 51789\
 , Deutschland
X-APPLE-STRUCTURED-LOCATION;VALUE=URI;X-ADDRESS=Am Berkebach\, Lindlar\, No
 rdrhein-Westfalen\, 51789\, Deutschland;X-APPLE-RADIUS=100;X-TITLE=:metabo
 lon:geo:0,0
END:VEVENT
BEGIN:VTIMEZONE
TZID:Europe/Berlin
X-LIC-LOCATION:Europe/Berlin
BEGIN:DAYLIGHT
DTSTART:20250330T030000
TZOFFSETFROM:+0100
TZOFFSETTO:+0200
TZNAME:CEST
END:DAYLIGHT
END:VTIMEZONE
END:VCALENDAR