BEGIN:VCALENDAR
VERSION:2.0
PRODID:-//wp-events-plugin.com//7.2.3.1//EN
TZID:Europe/Berlin
X-WR-TIMEZONE:Europe/Berlin
BEGIN:VEVENT
UID:83@bergische-rohstoffschmiede.de
DTSTART;TZID=Europe/Berlin:20250219T090000
DTEND;TZID=Europe/Berlin:20250219T170000
DTSTAMP:20250131T131812Z
URL:https://bergische-rohstoffschmiede.de/events/ressourceneffizienzsprech
 tag_2/
SUMMARY:Ressourceneffizienzsprechtag
DESCRIPTION:Das Thema Ressourceneffizienz nimmt für Unternehmen aus Indust
 rie und Handwerk einen immer wichtigeren Stellenwert ein. Wollen auch Sie 
 den eigenen Betrieb optimal aufstellen\, Kosten minimieren und Ressourcen 
 und Klima schonen? Stellen Sie sich Herausforderungen wie der Optimierung 
 Ihrer Produktion und Produkte\, der Auseinandersetzung mit neuen Rahmenbed
 ingungen wie Verordnungen bis hin zum Anspruch der Circular Economy? Suche
 n Sie externe  Unterstützung bei der Analyse Ihrer Prozesse oder bei Fra
 gen zu Technologieinvestments\, die Ihre Produktion ressourcen- und energi
 eeffizienter aufstellen?\n\nDie Wirtschaftsförderung des Oberbergischen 
 Kreises lädt Sie gemeinsam mit der Effizienz-Agentur NRW am 19. Febru
 ar 2025 ein\, Ihre Fragestellungen in einem persönlichen und individuel
 len Gespräch mit der Ressourceneffizienz-Expertin der Effizienz-Agentur N
 RW (EFA NRW) zu diskutieren. Nutzen Sie auch die Gelegenheit sich an dem T
 ag insbesondere zum Thema Zirkuläre Wertschöpfung zu informieren und mit
  der :bergischen rohstoffschmiede ins Gespräch zu kommen.\n\nDr. Nicole 
 Freiberger vom EFA-Regionalbüro Rheinland ordnet die bestehenden Möglich
 keiten in diesem ersten persönlichen Gesprächstermin über 45 Minuten o
 nline gemeinsam mit Ihnen ein.\nDer Sprechtag ist selbstverständlich kost
 enfrei.\n\nMögliche Fragestellungen:\n\n 	Was bedeutet Ressourceneffizien
 z für mein Unternehmen?\n 	Wie reduziere ich am effizientesten den Materi
 alverbrauch?\n 	Wie organisiere ich meinen Betrieb vor dem Hintergrund der
  Ressourceneffizienz?\n 	Welche Möglichkeiten bietet CO2-Bilanzierung fü
 r meine Unternehmensstrategie?\n 	Wie gehe ich mit Themen wie zirkuläre W
 irtschaft (Circular Economy) oder ecodesign und vielen mehr um?\n 	Welche 
 Unterstützung gibt es bei der Analyse meiner Fragestellungen?\n 	Sind Fö
 rdermittel für mein Vorhaben erstrebenswert und möglich?\n\nZur Organisa
 tion ist eine Voranmeldung notwendig. Es stehen jeweils sieben Zeitslots z
 ur Verfügung. Ihre Anmeldung können Sie per E-Mail an bonn@efanrw.de
  oder telefonisch unter der 0173 2738921 vornehmen. In der Anmeldung p
 er Mail können Sie Ihren Wunschslot angeben\, ein Rückruf zur Terminfixi
 erung erfolgt so schnell wie möglich:\n\nVeranstaltungsdaten:\nDienstag\,
  19.02.2025\n\nÜbersicht Zeitslots\n\n09:00 - 09:45\n10:00 – 10:45\n11:
 00 – 11:45\n12:15 – 13:00\n13:15 – 14:00\n14:15 – 15:00\n15:15 –
  16:00\n16:15 – 17:00\n\nBitte haben Sie Verständnis dafür\, dass wir 
 Ihnen vor der telefonischen Abstimmung keine Garantie auf die Wunschzeit g
 eben können.\n\nBitte beachten Sie\, dass bei Ihrem gebuchten Zeitslot ma
 x. zwei Unternehmensvertreterinnen /-vertreter teilnehmen können.
CATEGORIES:Informationsveranstaltung – online
END:VEVENT
BEGIN:VTIMEZONE
TZID:Europe/Berlin
X-LIC-LOCATION:Europe/Berlin
BEGIN:STANDARD
DTSTART:20241027T020000
TZOFFSETFROM:+0200
TZOFFSETTO:+0100
TZNAME:CET
END:STANDARD
END:VTIMEZONE
END:VCALENDAR