BEGIN:VCALENDAR
VERSION:2.0
PRODID:-//wp-events-plugin.com//7.2.3.1//EN
TZID:Europe/Berlin
X-WR-TIMEZONE:Europe/Berlin
BEGIN:VEVENT
UID:12@bergische-rohstoffschmiede.de
DTSTART;TZID=Europe/Berlin:20220614T180000
DTEND;TZID=Europe/Berlin:20220614T220000
DTSTAMP:20220614T075025Z
URL:https://bergische-rohstoffschmiede.de/events/rbw-wirtschaftsforum-nach
 haltig-wirtschaften-in-rhein-berg-herausforderung-und-chance-zugleich/
SUMMARY:RBW-Wirtschaftsforum: Nachhaltig Wirtschaften in Rhein-Berg - Herau
 sforderung und Chance zugleich
DESCRIPTION:Nachhaltig Wirtschaften – es stellt sich nicht mehr die Frage
  nach dem „Ob“\, sondern nach dem „Wie“. Zahlreiche gute Beispiele
  aus Rhein-Berg zeigen\, was Unternehmen zu mehr Nachhaltigkeit und für d
 ie Zukunftssicherung beitragen können und bereits umsetzen. In Produkten\
 , Prozessen\, Energieversorgung\, Mobilität und vielen Aspekten mehr.\n\n
 Die Rheinisch-Bergische Wirtschaftsförderungs mbH lädt ein\, ihre Ideen 
 zum nachhaltigen Wirtschaften\, gute Beispiele sowie weitere Angebote an U
 nternehmen vorzustellen und mit den Teilnehmenden darüber ins Gespräch k
 ommen.\n\nWeitere Informationen zu der Veranstaltung: Wirtschaftsforum: Na
 chhaltig Wirtschaften – Rheinisch-Bergische Wirtschaftsförderungsgesell
 schaft mbH (rbw.de)
CATEGORIES:Konferenz
LOCATION:Bundesanstalt für Straßenwesen (BAST)\, Brüderstraße 53\, Berg
 isch Gladbach\, 51427\, Deutschland
X-APPLE-STRUCTURED-LOCATION;VALUE=URI;X-ADDRESS=Brüderstraße 53\, Bergisc
 h Gladbach\, 51427\, Deutschland;X-APPLE-RADIUS=100;X-TITLE=Bundesanstalt 
 für Straßenwesen (BAST):geo:0,0
END:VEVENT
BEGIN:VTIMEZONE
TZID:Europe/Berlin
X-LIC-LOCATION:Europe/Berlin
BEGIN:DAYLIGHT
DTSTART:20220327T030000
TZOFFSETFROM:+0100
TZOFFSETTO:+0200
TZNAME:CEST
END:DAYLIGHT
END:VTIMEZONE
END:VCALENDAR