BEGIN:VCALENDAR
VERSION:2.0
PRODID:-//wp-events-plugin.com//7.2.3.1//EN
TZID:Europe/Berlin
X-WR-TIMEZONE:Europe/Berlin
BEGIN:VEVENT
UID:109@bergische-rohstoffschmiede.de
DTSTART;TZID=Europe/Berlin:20251021T140000
DTEND;TZID=Europe/Berlin:20251021T180000
DTSTAMP:20250909T083224Z
URL:https://bergische-rohstoffschmiede.de/events/hochschule-bonn-rhein-sie
 g-und-bergische-rohstoffschmiede-workshop-zukunftsfaehige-geschaeftsmodell
 e-so-werden-ideen-kreislauffaehig/
SUMMARY:Hochschule Bonn-Rhein-Sieg und :bergische rohstoffschmiede – Work
 shop "Zukunftsfähige Geschäftsmodelle - So werden Ideen kreislauffähig"
DESCRIPTION:In Zusammenarbeit mit dem CENTIM – Centrum für Entrepreneurs
 hip\, Innovation und Mittelstand bietet die :bergische rohstoffschmiede ei
 nen Workshop für gründungswillige Absolventinnen und Absolventen der Hoc
 hschule Bonn-Rhein-Sieg an.\n\nZiele dieses Workshops sind\, die beiden St
 rategien Zirkuläre Wertschöpfung und Gemeinwohl-Ökonomie im Zusammenspi
 el zu bearbeiten und darin Potenziale für an Nachhaltigkeit orientierte G
 eschäftsmodelle für Gründerinnen und Gründer zu identifizieren.\nIn fa
 chlichen Inputs\, Arbeitsgruppen- und Reflexionsphasen sowie in der erprob
 ung strategischer Ansätze für nachhaltige Geschäftsmodelle erfahren Tei
 lnehmende in diesem Workshop\,\n\n 	was Zirkuläre Wertschöpfung und Geme
 inwohl-Ökonomie verbindet und welche ihre gemeinsamen Prinzipien und Syne
 rgien sind.\n 	was der Unterschied ist zwischen Zirkuläre Wertschöpfung 
 und Kreislaufwirtschaft.\n 	was R-Strategien sind und weshalb sie aussicht
 sreiche Pfade für eine Transformation von nachhaltgien Stoffkreisläufen 
 und Geschäftsmodellen sind.\n 	wo Sie in Ihren Gründungsüberlegungen od
 er -prozess Prinzipien einer Zirkulären Wertschöpfung und Gemeinwohl-Ök
 onomie gleichermaßen sowohl umwelt- und sozialverträglich als auch gewin
 nbringend integrieren können.\n\nReferentin:\n\nDr. Bettina Knothe\, Dipl
 om-Biologin\, Promotion Umweltwissenschaften\; Koordinatorin Netzwerk Zirk
 uläre Wertschöpfung Bergisches RheinLand im Projekt :bergische rohstoffs
 chmiede bei Bergischer Abfallwirtschaftsverband (BAV)\n\nInformation zum W
 orkshop: Workshop: Zukunftsfähige Geschäftsmodelle - So werden Ideen kre
 islauffähig | Hochschule Bonn-Rhein-Sieg (H-BRS)
ATTACH;FMTTYPE=image/jpeg:https://bergische-rohstoffschmiede.de/wp-content
 /uploads/2025/09/WS-Circ-Banner.png.webp
CATEGORIES:Workshop
END:VEVENT
BEGIN:VTIMEZONE
TZID:Europe/Berlin
X-LIC-LOCATION:Europe/Berlin
BEGIN:DAYLIGHT
DTSTART:20250330T030000
TZOFFSETFROM:+0100
TZOFFSETTO:+0200
TZNAME:CEST
END:DAYLIGHT
END:VTIMEZONE
END:VCALENDAR