BEGIN:VCALENDAR
VERSION:2.0
PRODID:-//wp-events-plugin.com//7.2.3.1//EN
TZID:Europe/Berlin
X-WR-TIMEZONE:Europe/Berlin
BEGIN:VEVENT
UID:77@bergische-rohstoffschmiede.de
DTSTART;TZID=Europe/Berlin:20240925T090000
DTEND;TZID=Europe/Berlin:20240925T120000
DTSTAMP:20240912T084028Z
URL:https://bergische-rohstoffschmiede.de/events/fuer-den-nachhaltigkeitsb
 ericht-in-5-schritten-durch-die-doppelte-wesentlichkeitsanalyse/
SUMMARY:Für den Nachhaltigkeitsbericht: In 5 Schritten durch die Doppelte 
 Wesentlichkeitsanalyse
DESCRIPTION:In der gemeinsamen Formatreihe „Nachhaltigkeitsbericht im Bli
 ck“ der Wirtschaftsförderung Oberbergischer Kreis und der Rheinisch-Ber
 gischen Wirtschaftsförderungsgesellschaft GmbH in Kooperation mit CAESAR+
 CLEO geht es am 25.09.2024 um die "Doppelte Wesentlichkeitsanalyse". Sie s
 it eine wichtige Grundlage für den eigenen Nachhaltigkeitsbericht. Anhand
  dieser können Unternehmen wesentliche Nachhaltigkeitsaspekte in ihrem t
 äglichen Handeln identifizieren und sowohl eigene Auswirkungen auf die Um
 welt als auch Chancen und Risiken für das Unternehmen selbst erkennen (
 „doppelte Wesentlichkeit“).\n\nDetaillierte INFORMATION und ANMELDUNG 
 finden Sie HIER
ATTACH;FMTTYPE=image/jpeg:https://bergische-rohstoffschmiede.de/wp-content
 /uploads/2024/09/doppelte_wesentlichkeitsanalyse_.jpg
CATEGORIES:Workshop – Präsenz
LOCATION:Kulturbahnhof Overath\, Bahnhofplatz 5\, Overath\, NRW\, 51491\, D
 eutschland
X-APPLE-STRUCTURED-LOCATION;VALUE=URI;X-ADDRESS=Bahnhofplatz 5\, Overath\, 
 NRW\, 51491\, Deutschland;X-APPLE-RADIUS=100;X-TITLE=Kulturbahnhof Overath
 :geo:0,0
END:VEVENT
BEGIN:VTIMEZONE
TZID:Europe/Berlin
X-LIC-LOCATION:Europe/Berlin
BEGIN:DAYLIGHT
DTSTART:20240331T030000
TZOFFSETFROM:+0100
TZOFFSETTO:+0200
TZNAME:CEST
END:DAYLIGHT
END:VTIMEZONE
END:VCALENDAR